BEGIN:VCALENDAR
VERSION:2.0
PRODID:-//ChamberMaster//Event Calendar 2.0//EN
METHOD:PUBLISH
X-PUBLISHED-TTL:P1H
REFRESH-INTERVAL:P1H
CALSCALE:GREGORIAN
BEGIN:VTIMEZONE
TZID:America/New_York
BEGIN:DAYLIGHT
RRULE:FREQ=YEARLY;BYMONTH=3;BYDAY=2SU
DTSTART:20070101T000000
TZOFFSETFROM:-0500
TZOFFSETTO:-0400
TZNAME:Eastern Daylight Time
END:DAYLIGHT
BEGIN:STANDARD
RRULE:FREQ=YEARLY;BYMONTH=11;BYDAY=1SU
DTSTART:20070101T000000
TZOFFSETFROM:-0400
TZOFFSETTO:-0500
TZNAME:Eastern Standard Time
END:STANDARD
END:VTIMEZONE
BEGIN:VEVENT
DTSTART;TZID=America/New_York:20250107T143000
DTEND;TZID=America/New_York:20250107T160000
X-MICROSOFT-CDO-ALLDAYEVENT:FALSE
SUMMARY:Virtual Meeting on Olive Tariffs with Akin Gump
DESCRIPTION:An virtual meeting for members of the North American Olive Oil Association to discuss tariffs that might impact olive oils.
X-ALT-DESC;FMTTYPE=text/html:An virtual meeting for members of the North American Olive Oil Association to discuss tariffs that might impact olive oils.
LOCATION:
UID:e.3913.1109973
SEQUENCE:3
DTSTAMP:20260419T151137Z
URL:https://my.naooa.org/naooacalendar/Details/virtual-meeting-on-olive-tariffs-with-akin-gump-1286216?sourceTypeId=Hub
END:VEVENT
END:VCALENDAR
